BEGIN:VCALENDAR
VERSION:2.0
PRODID:-//Refuge III - ECPv6.15.20//NONSGML v1.0//EN
CALSCALE:GREGORIAN
METHOD:PUBLISH
X-WR-CALNAME:Refuge III
X-ORIGINAL-URL:https://refuge3.org
X-WR-CALDESC:Events for Refuge III
REFRESH-INTERVAL;VALUE=DURATION:PT1H
X-Robots-Tag:noindex
X-PUBLISHED-TTL:PT1H
BEGIN:VTIMEZONE
TZID:UTC
BEGIN:STANDARD
TZOFFSETFROM:+0000
TZOFFSETTO:+0000
TZNAME:UTC
DTSTART:20230101T000000
END:STANDARD
END:VTIMEZONE
BEGIN:VEVENT
DTSTART;VALUE=DATE:20250704
DTEND;VALUE=DATE:20250705
DTSTAMP:20260420T072050
CREATED:20241116T042827Z
LAST-MODIFIED:20241116T042827Z
UID:14473-1751587200-1751673599@refuge3.org
SUMMARY:4th of July Parade
DESCRIPTION:Happy 4th of July!\nJoin us in celebrating Independence Day with the community. Cheer on our parade float as we spread joy\, music\, and the love of God!
URL:https://refuge3.org/event/4th-of-july-parade/
LOCATION:Refuge III\, 7535 Elm Creek Rd.\, Seguin\, TX\, 78154\, United States
ATTACH;FMTTYPE=image/jpeg:https://refuge3.org/wp-content/uploads/2024/01/parade.jpg
END:VEVENT
BEGIN:VEVENT
DTSTART;TZID=UTC:20250108T190000
DTEND;TZID=UTC:20250108T190000
DTSTAMP:20260420T072050
CREATED:20250111T030531Z
LAST-MODIFIED:20250111T031156Z
UID:14881-1736362800-1736362800@refuge3.org
SUMMARY:Bible Study (Tuesdays & Wednesdays at 7:00 PM)
DESCRIPTION:Dive deeper into the Word with our midweek Bible Study sessions. Each week\, we explore topics that help us live out our faith daily. Join us on Zoom for this interactive and enriching experience. \nSpeaker: Sis. Lavee Jackson\nJoin us on Zoom for transformative Bible study sessions. Engage in thought-provoking lessons and spiritual growth as we delve into God’s Word. \nZoom Link: [Insert link]
URL:https://refuge3.org/event/bible-study-tuesdays-wednesdays-at-700-pm/
LOCATION:Refuge III\, 7535 Elm Creek Rd.\, Seguin\, TX\, 78154\, United States
END:VEVENT
BEGIN:VEVENT
DTSTART;TZID=UTC:20250107T190000
DTEND;TZID=UTC:20250107T190000
DTSTAMP:20260420T072050
CREATED:20241116T035910Z
LAST-MODIFIED:20250111T030215Z
UID:14461-1736276400-1736276400@refuge3.org
SUMMARY:Bible Study (Tuesdays & Wednesdays at 7:00 PM)
DESCRIPTION:Dive deeper into the Word with our midweek Bible Study sessions. Each week\, we explore topics that help us live out our faith daily. Join us on Zoom for this interactive and enriching experience. \nJoin us on Zoom for transformative Bible study sessions. Engage in thought-provoking lessons and spiritual growth as we delve into God’s Word. \nZoom Link: [Insert link]
URL:https://refuge3.org/event/bible-study/
LOCATION:Refuge III\, 7535 Elm Creek Rd.\, Seguin\, TX\, 78154\, United States
ATTACH;FMTTYPE=image/jpeg:https://refuge3.org/wp-content/uploads/2024/10/pexels-jibarofoto-2351719-scaled.jpg
END:VEVENT
BEGIN:VEVENT
DTSTART;TZID=UTC:20241224T140000
DTEND;TZID=UTC:20241224T170000
DTSTAMP:20260420T072050
CREATED:20241116T042544Z
LAST-MODIFIED:20241116T042544Z
UID:14469-1735048800-1735059600@refuge3.org
SUMMARY:Holiday Outreach at Hope for Haven
DESCRIPTION:Celebrate the season of giving with Refuge III!\nLet’s spread hope and love to the residents of Hope for Haven through worship\, games\, and gift distribution. Bringing Christmas joy to those in need at Hope for Haven.
URL:https://refuge3.org/event/holiday-outreach-at-hope-for-haven/
LOCATION:Haven for Hope\, 1 Haven for Hope Way\, San Antonio\, TX\, 78207\, United States
ATTACH;FMTTYPE=image/jpeg:https://refuge3.org/wp-content/uploads/2024/11/e1090a79-b2f5-46ba-9c6c-b29cc1d59d06_1920x1080.jpg
END:VEVENT
BEGIN:VEVENT
DTSTART;TZID=UTC:20241214T100000
DTEND;TZID=UTC:20241214T120000
DTSTAMP:20260420T072050
CREATED:20241116T043830Z
LAST-MODIFIED:20241116T051105Z
UID:14478-1734170400-1734177600@refuge3.org
SUMMARY:Outreach Ministry at Nesbitt Nursing Rehabilitation (Every 2nd Saturday of the Month)
DESCRIPTION:Outreach Ministry at Nesbitt Nursing Rehabilitation\nJoin our Outreach Ministry as we bring worship\, prayer\, and encouragement to the residents at Nesbitt Nursing Rehabilitation. Be part of this heartwarming ministry that brings hope and joy.
URL:https://refuge3.org/event/outreach-ministry-at-nesbitt-nursing-rehabilitation/
LOCATION:Nesbitt Nursing Rehabilitation\, 1215 Ashby Street\, Seguin\, TX\, 78154\, United States
ATTACH;FMTTYPE=image/jpeg:https://refuge3.org/wp-content/uploads/2024/11/2bbb117d5b7ad5bc7b5a97059e183207-in-the-fall-for-the.jpg
END:VEVENT
BEGIN:VEVENT
DTSTART;TZID=UTC:20241124T110000
DTEND;TZID=UTC:20241124T130000
DTSTAMP:20260420T072050
CREATED:20241116T041552Z
LAST-MODIFIED:20241116T050958Z
UID:14467-1732446000-1732453200@refuge3.org
SUMMARY:Youth Sunday: Leading the Way (Every 4th Sunday of the Month)
DESCRIPTION:Our youth take center stage for an inspiring service led entirely by them. From worship to the Word\, see the next generation of leaders in action as they share their gifts and talents.
URL:https://refuge3.org/event/youth-sunday-leading-the-way/
LOCATION:Refuge III\, 7535 Elm Creek Rd.\, Seguin\, TX\, 78154\, United States
ATTACH;FMTTYPE=image/jpeg:https://refuge3.org/wp-content/uploads/2024/01/Baby-boy-reading.jpg
END:VEVENT
BEGIN:VEVENT
DTSTART;VALUE=DATE:20241118
DTEND;VALUE=DATE:20241119
DTSTAMP:20260420T072050
CREATED:20241116T045010Z
LAST-MODIFIED:20241116T045010Z
UID:14482-1731888000-1731974399@refuge3.org
SUMMARY:Youth Bible Class at Juvenile Detention
DESCRIPTION:Youth Bible Class at Juvenile Detention\nRefuge III will host its first Bible class for youth in juvenile detention\, led by Sis. Shanae Rhodes\, Sis. LaVee Jackson\, and others. Join us in praying for this impactful ministry.
URL:https://refuge3.org/event/youth-bible-class-at-juvenile-detention/
LOCATION:Refuge III\, 7535 Elm Creek Rd.\, Seguin\, TX\, 78154\, United States
ATTACH;FMTTYPE=image/jpeg:https://refuge3.org/wp-content/uploads/2024/11/diverse-people-stacking-hands-together-2023-11-27-04-53-23-utc-scaled.jpg
END:VEVENT
END:VCALENDAR