BEGIN:VCALENDAR
VERSION:2.0
PRODID:-//Refuge III - ECPv6.15.20//NONSGML v1.0//EN
CALSCALE:GREGORIAN
METHOD:PUBLISH
X-WR-CALNAME:Refuge III
X-ORIGINAL-URL:https://refuge3.org
X-WR-CALDESC:Events for Refuge III
REFRESH-INTERVAL;VALUE=DURATION:PT1H
X-Robots-Tag:noindex
X-PUBLISHED-TTL:PT1H
BEGIN:VTIMEZONE
TZID:UTC
BEGIN:STANDARD
TZOFFSETFROM:+0000
TZOFFSETTO:+0000
TZNAME:UTC
DTSTART:20130101T000000
END:STANDARD
END:VTIMEZONE
BEGIN:VEVENT
DTSTART;TZID=UTC:20141106T110000
DTEND;TZID=UTC:20491216T120000
DTSTAMP:20260423T083649
CREATED:20241116T041256Z
LAST-MODIFIED:20241116T050558Z
UID:14463-1415271600-2523268800@refuge3.org
SUMMARY:Prayer with Pastor Fennell (Thursdays at 11:00 AM)
DESCRIPTION:Connect with Pastor Fennell and Sis. Betty Bronston for a powerful midweek prayer session. It will be a time of reflection\, intercession\, and connection. Join us as we lift our voices and hearts to God. \nDial in at 1-605-313-5799 (Access Code: 8180444#).
URL:https://refuge3.org/event/prayer-with-pastor-fennell/
LOCATION:Refuge III\, 7535 Elm Creek Rd.\, Seguin\, TX\, 78154\, United States
ATTACH;FMTTYPE=image/jpeg:https://refuge3.org/wp-content/uploads/2024/11/i-need-some-divine-help-here-2023-11-27-05-22-07-utc-scaled.jpg
END:VEVENT
BEGIN:VEVENT
DTSTART;TZID=UTC:20141109T100000
DTEND;TZID=UTC:20591228T110000
DTSTAMP:20260423T083649
CREATED:20241116T035007Z
LAST-MODIFIED:20241116T050619Z
UID:14455-1415527200-2839834800@refuge3.org
SUMMARY:Sunday School (Sundays at 10:00 AM)
DESCRIPTION:Start your Sunday with in-depth Bible teachings designed for all ages. Join us as we explore scripture and grow in understanding and faith. Available in person and online via Zoom. \nSunday School Program: \n\nSuperintendent Deacon Louis Rhodes opens with scripture and prayer.\nAdult Sunday School led by Deacon Charles Davis.\nChildren’s Sunday School led by Sis. LaVee Jackson.
URL:https://refuge3.org/event/sunday-school/
LOCATION:Refuge III\, 7535 Elm Creek Rd.\, Seguin\, TX\, 78154\, United States
ATTACH;FMTTYPE=image/jpeg:https://refuge3.org/wp-content/uploads/2024/11/priest-holding-holy-bible-and-rosary-preaching-to-2024-10-09-17-54-04-utc-scaled.jpg
END:VEVENT
BEGIN:VEVENT
DTSTART;TZID=UTC:20141109T110000
DTEND;TZID=UTC:20591228T130000
DTSTAMP:20260423T083649
CREATED:20241116T035537Z
LAST-MODIFIED:20241116T050636Z
UID:14459-1415530800-2839842000@refuge3.org
SUMMARY:Sunday Worship Service (Sundays at 11:00 AM)
DESCRIPTION:Experience dynamic worship and inspirational messages that uplift and encourage. This is a time to connect with God and the Refuge III family. \nMorning Worship Program: \n\nHorns of Altar signify the service’s start.\nPraise and Worship led by Sis. Erma\, Sis. Mary\, and Deacon Charles Davis.\nInspirational welcome by Sis. Gloria Kennedy and a poem by Sis. Lorraine Davis.\nSpiritual thoughts presented by Dr. Rochelle Cunningham.\nSermon.\n\nJoin us as we worship together in spirit and truth\, celebrating our theme for 2024: Lord Jesus\, Give Us More in 2024 (Luke 12:48). \n 
URL:https://refuge3.org/event/sunday-worship-service/
LOCATION:Refuge III\, 7535 Elm Creek Rd.\, Seguin\, TX\, 78154\, United States
ATTACH;FMTTYPE=image/jpeg:https://refuge3.org/wp-content/uploads/2024/11/AdobeStock_323576789-scaled.jpeg
END:VEVENT
BEGIN:VEVENT
DTSTART;TZID=UTC:20241119T200000
DTEND;TZID=UTC:20591223T210000
DTSTAMP:20260423T083649
CREATED:20241116T043420Z
LAST-MODIFIED:20241116T050857Z
UID:14475-1732046400-2839438800@refuge3.org
SUMMARY:Women of War Prayer Call (Tuesdays at 8:00 PM)
DESCRIPTION:Women of War Prayer Call\nA time of prayer and encouragement exclusively for women. Led by inspiring women of faith\, this weekly prayer call empowers and uplifts.
URL:https://refuge3.org/event/women-of-war-prayer-call/
LOCATION:Refuge III\, 7535 Elm Creek Rd.\, Seguin\, TX\, 78154\, United States
ATTACH;FMTTYPE=image/jpeg:https://refuge3.org/wp-content/uploads/2024/11/bible-praying-or-hands-of-grandmother-with-childr-2023-11-27-04-50-57-utc-scaled.jpg
END:VEVENT
BEGIN:VEVENT
DTSTART;TZID=UTC:20241214T100000
DTEND;TZID=UTC:20241214T120000
DTSTAMP:20260423T083649
CREATED:20241116T043830Z
LAST-MODIFIED:20241116T051105Z
UID:14478-1734170400-1734177600@refuge3.org
SUMMARY:Outreach Ministry at Nesbitt Nursing Rehabilitation (Every 2nd Saturday of the Month)
DESCRIPTION:Outreach Ministry at Nesbitt Nursing Rehabilitation\nJoin our Outreach Ministry as we bring worship\, prayer\, and encouragement to the residents at Nesbitt Nursing Rehabilitation. Be part of this heartwarming ministry that brings hope and joy.
URL:https://refuge3.org/event/outreach-ministry-at-nesbitt-nursing-rehabilitation/
LOCATION:Nesbitt Nursing Rehabilitation\, 1215 Ashby Street\, Seguin\, TX\, 78154\, United States
ATTACH;FMTTYPE=image/jpeg:https://refuge3.org/wp-content/uploads/2024/11/2bbb117d5b7ad5bc7b5a97059e183207-in-the-fall-for-the.jpg
END:VEVENT
BEGIN:VEVENT
DTSTART;TZID=UTC:20241224T140000
DTEND;TZID=UTC:20241224T170000
DTSTAMP:20260423T083649
CREATED:20241116T042544Z
LAST-MODIFIED:20241116T042544Z
UID:14469-1735048800-1735059600@refuge3.org
SUMMARY:Holiday Outreach at Hope for Haven
DESCRIPTION:Celebrate the season of giving with Refuge III!\nLet’s spread hope and love to the residents of Hope for Haven through worship\, games\, and gift distribution. Bringing Christmas joy to those in need at Hope for Haven.
URL:https://refuge3.org/event/holiday-outreach-at-hope-for-haven/
LOCATION:Haven for Hope\, 1 Haven for Hope Way\, San Antonio\, TX\, 78207\, United States
ATTACH;FMTTYPE=image/jpeg:https://refuge3.org/wp-content/uploads/2024/11/e1090a79-b2f5-46ba-9c6c-b29cc1d59d06_1920x1080.jpg
END:VEVENT
END:VCALENDAR